BEGIN:VCALENDAR
VERSION:2.0
PRODID:-//The Center Shops - ECPv4.9.0.3//NONSGML v1.0//EN
CALSCALE:GREGORIAN
METHOD:PUBLISH
X-WR-CALNAME:The Center Shops
X-ORIGINAL-URL:https://thecentershops.com
X-WR-CALDESC:Events for The Center Shops
BEGIN:VEVENT
DTSTART;TZID=UTC+0:20190316T080000
DTEND;TZID=UTC+0:20190316T170000
DTSTAMP:20260423T184757
CREATED:20190122T193604Z
LAST-MODIFIED:20190122T193604Z
UID:63-1552723200-1552755600@thecentershops.com
SUMMARY:Sample Sale Event
DESCRIPTION:
URL:https://thecentershops.com/event/sample-sale-event/
LOCATION:Venue Name\, The Center Shops 123 way\, Norfolk
END:VEVENT
END:VCALENDAR