BEGIN:VCALENDAR
VERSION:2.0
PRODID:-//The Center Shops - ECPv4.9.0.3//NONSGML v1.0//EN
CALSCALE:GREGORIAN
METHOD:PUBLISH
X-WR-CALNAME:The Center Shops
X-ORIGINAL-URL:https://thecentershops.com
X-WR-CALDESC:Events for The Center Shops
BEGIN:VEVENT
DTSTART;TZID=UTC+0:20190218T110000
DTEND;TZID=UTC+0:20190327T220000
DTSTAMP:20260423T171513
CREATED:20190218T205014Z
LAST-MODIFIED:20190218T205014Z
UID:111-1550487600-1553724000@thecentershops.com
SUMMARY:Special on Tacos & Beer
DESCRIPTION:Wednesday Nights $2.50 beers and 2 tacos for $5.00 \n
URL:https://thecentershops.com/event/special-on-tacos-beer/
END:VEVENT
END:VCALENDAR